BEGIN:VCALENDAR
VERSION:2.0
PRODID:-//Percy Priest Elementary - ECPv6.15.20//NONSGML v1.0//EN
CALSCALE:GREGORIAN
METHOD:PUBLISH
X-WR-CALNAME:Percy Priest Elementary
X-ORIGINAL-URL:https://www.percypriest.org
X-WR-CALDESC:Events for Percy Priest Elementary
REFRESH-INTERVAL;VALUE=DURATION:PT1H
X-Robots-Tag:noindex
X-PUBLISHED-TTL:PT1H
BEGIN:VTIMEZONE
TZID:America/Chicago
BEGIN:DAYLIGHT
TZOFFSETFROM:-0600
TZOFFSETTO:-0500
TZNAME:CDT
DTSTART:20250309T080000
END:DAYLIGHT
BEGIN:STANDARD
TZOFFSETFROM:-0500
TZOFFSETTO:-0600
TZNAME:CST
DTSTART:20251102T070000
END:STANDARD
BEGIN:DAYLIGHT
TZOFFSETFROM:-0600
TZOFFSETTO:-0500
TZNAME:CDT
DTSTART:20260308T080000
END:DAYLIGHT
BEGIN:STANDARD
TZOFFSETFROM:-0500
TZOFFSETTO:-0600
TZNAME:CST
DTSTART:20261101T070000
END:STANDARD
BEGIN:DAYLIGHT
TZOFFSETFROM:-0600
TZOFFSETTO:-0500
TZNAME:CDT
DTSTART:20270314T080000
END:DAYLIGHT
BEGIN:STANDARD
TZOFFSETFROM:-0500
TZOFFSETTO:-0600
TZNAME:CST
DTSTART:20271107T070000
END:STANDARD
END:VTIMEZONE
BEGIN:VEVENT
DTSTART;VALUE=DATE:20260521
DTEND;VALUE=DATE:20260522
DTSTAMP:20260419T091337
CREATED:20250708T034103Z
LAST-MODIFIED:20250708T034103Z
UID:52593-1779321600-1779407999@www.percypriest.org
SUMMARY:Report Cards Issued
DESCRIPTION:
URL:https://www.percypriest.org/event/report-cards-issued-6/
END:VEVENT
BEGIN:VEVENT
DTSTART;VALUE=DATE:20261207
DTEND;VALUE=DATE:20261208
DTSTAMP:20260419T091337
CREATED:20241213T120633Z
LAST-MODIFIED:20250817T052137Z
UID:42466-1796601600-1796687999@www.percypriest.org
SUMMARY:Dr. Young Birthday
DESCRIPTION:
URL:https://www.percypriest.org/event/dr-young-birthday-4/
END:VEVENT
END:VCALENDAR